BEGIN:VCALENDAR
VERSION:2.0
PRODID:-//Rutgers CAIT - ECPv5.16.3.1//NONSGML v1.0//EN
CALSCALE:GREGORIAN
METHOD:PUBLISH
X-WR-CALNAME:Rutgers CAIT
X-ORIGINAL-URL:https://cait.rutgers.edu
X-WR-CALDESC:Events for Rutgers CAIT
BEGIN:VTIMEZONE
TZID:America/New_York
BEGIN:DAYLIGHT
TZOFFSETFROM:-0500
TZOFFSETTO:-0400
TZNAME:EDT
DTSTART:20240310T070000
END:DAYLIGHT
BEGIN:STANDARD
TZOFFSETFROM:-0400
TZOFFSETTO:-0500
TZNAME:EST
DTSTART:20241103T060000
END:STANDARD
END:VTIMEZONE
BEGIN:VEVENT
DTSTART;TZID=America/New_York:20241205T083000
DTEND;TZID=America/New_York:20241205T123000
DTSTAMP:20260420T224845
CREATED:20210315T021333Z
LAST-MODIFIED:20240826T164149Z
UID:7745-1733387400-1733401800@cait.rutgers.edu
SUMMARY:NJLTAP - Basic Math and Plan Reading (In-Person)
DESCRIPTION:Course Description:\nThis course provides an overview on basic math skills related to construction inspection and road maintenance\, as well as how to locate information within a set of plans. The workshop is also good for those wanting a refresher. Math basics will be covered\, as well as calculating length\, area\, volume\, and quantities such as those in real world situations on public works projects. \nTopics will include reading notes\, determining quantities and understanding typography\, basic Geometry\, area and volume. \nLearning Objectives:\n\nUnderstand common types of site plans used in public works projects\nLearn typical math equations used in estimating materials and how to calculate quantities\n\nIntended Audience:\nLocal and state roadway agencies – road foreman\, inspectors and crew leaders \nPre-Requisites:\nNone \nCredits:\n4 PDH. 4 Technical CPWM Contact Hours \nPresenters:\nEdward Gottko\, PWLF\, Retired PE and APWA Past President \nSponsor:\nThis workshop is sponsored by the Federal Highway Administration and New Jersey Department of Transportation through the New Jersey Local Technical Assistance Program. \nUniversity Smoking Policy:\nRutgers University is committed to providing and maintaining a healthy and safe environment for students\, employees\, guests\, and visitors. The use of all tobacco products and tobacco related products\, including E-cigarettes\, is prohibited on all property that is owned\, operated\, leased\, occupied\, or controlled by the University. Therefore\, smoking is no longer permitted outside of the CAIT building. Those who violate the new policy will be asked to leave the premises.
URL:https://cait.rutgers.edu/event/basicmathplan/
LOCATION:Rutgers CAIT Auditorium\, 100 Brett Road\, Piscataway\, NJ\, 08854\, United States
CATEGORIES:NJLTAP,Training
ATTACH;FMTTYPE=image/jpeg:https://cait.rutgers.edu/wp-content/uploads/2018/06/placeholder1.jpg
ORGANIZER;CN="Jessica%20Brown":MAILTO:job32@soe.rutgers.edu
GEO:40.5225239;-74.4597658
X-APPLE-STRUCTURED-LOCATION;VALUE=URI;X-ADDRESS=Rutgers CAIT Auditorium 100 Brett Road Piscataway NJ 08854 United States;X-APPLE-RADIUS=500;X-TITLE=100 Brett Road:geo:-74.4597658,40.5225239
END:VEVENT
END:VCALENDAR