BEGIN:VCALENDAR
VERSION:2.0
PRODID:-//Rutgers CAIT - ECPv5.16.3.1//NONSGML v1.0//EN
CALSCALE:GREGORIAN
METHOD:PUBLISH
X-WR-CALNAME:Rutgers CAIT
X-ORIGINAL-URL:https://cait.rutgers.edu
X-WR-CALDESC:Events for Rutgers CAIT
BEGIN:VTIMEZONE
TZID:America/New_York
BEGIN:DAYLIGHT
TZOFFSETFROM:-0500
TZOFFSETTO:-0400
TZNAME:EDT
DTSTART:20220313T070000
END:DAYLIGHT
BEGIN:STANDARD
TZOFFSETFROM:-0400
TZOFFSETTO:-0500
TZNAME:EST
DTSTART:20221106T060000
END:STANDARD
END:VTIMEZONE
BEGIN:VEVENT
DTSTART;TZID=America/New_York:20220223T130000
DTEND;TZID=America/New_York:20220223T140000
DTSTAMP:20260424T094547
CREATED:20220112T151713Z
LAST-MODIFIED:20220112T151743Z
UID:9301-1645621200-1645624800@cait.rutgers.edu
SUMMARY:CAIT Seminar Series: How can artificial intelligence transform the surface transportation system?
DESCRIPTION:The surface transportation system has not yet taken full advantage of artificial intelligence and specifically machine learning and processing power capabilities for applied projects. \n\nDuring this talk\, Dr. Yeganeh Hayeri from the School of Systems and Enterprises at Stevens Institute of Technology\, will evaluate this gap by utilizing a systematic review approach to categorize and synthesize the principal existing concepts in surface transportation systems using machine learning algorithms while decomposing them into their fundamental elements.\n\n\n\n\nThe goal is to showcase the current opportunities for research and development in applied machine learning in surface transportation to accelerate technology advancements while directly benefiting society and the economy by resolving mobility and safety issues.
URL:https://cait.rutgers.edu/event/cait-seminar-series-how-can-artificial-intelligence-transform-the-surface-transportation-system/
LOCATION:Virtual
CATEGORIES:Event
ATTACH;FMTTYPE=image/png:https://cait.rutgers.edu/wp-content/uploads/2021/06/screen-grab-innovation-hub-video.png
ORGANIZER;CN="Ryan%20Stiesi":MAILTO:rps118@soe.rutgers.edu
END:VEVENT
END:VCALENDAR