BEGIN:VCALENDAR
VERSION:2.0
PRODID:-//Rutgers CAIT - ECPv5.16.3.1//NONSGML v1.0//EN
CALSCALE:GREGORIAN
METHOD:PUBLISH
X-WR-CALNAME:Rutgers CAIT
X-ORIGINAL-URL:https://cait.rutgers.edu
X-WR-CALDESC:Events for Rutgers CAIT
BEGIN:VTIMEZONE
TZID:America/New_York
BEGIN:DAYLIGHT
TZOFFSETFROM:-0500
TZOFFSETTO:-0400
TZNAME:EDT
DTSTART:20210314T070000
END:DAYLIGHT
BEGIN:STANDARD
TZOFFSETFROM:-0400
TZOFFSETTO:-0500
TZNAME:EST
DTSTART:20211107T060000
END:STANDARD
END:VTIMEZONE
BEGIN:VEVENT
DTSTART;TZID=America/New_York:20211025T090000
DTEND;TZID=America/New_York:20211025T120000
DTSTAMP:20260425T151954
CREATED:20200817T123340Z
LAST-MODIFIED:20211007T175511Z
UID:6743-1635152400-1635163200@cait.rutgers.edu
SUMMARY:NJLTAP - Highway Inspection Procedures for Federal-aid Projects (Webinar)
DESCRIPTION:PLEASE NOTE: Your log on information will be included in your registration confirmation email. If you do not receive an immediate confirmation\, please check your junk/SPAM folders or email barbara.morgan@soe.rutgers.edu. Full attendance is required in order to receive a certificate of completion and PDHs \nThis course is designed specifically for project engineers\, project inspectors\, supervisors and those in responsible charge of Federal-aid construction projects. It presents essential requirements and procedures for insuring conformance with contract plans and specifications including records and documentation necessary to facilitate reimbursement to recipients of federal funds. \nThe course includes interactive discussions of on-the-job experiences\, key elements of construction\, effective inspections and project management\, and specific guidance for such critical issues as: Source Documentation; Responsible Charge; Contract Time; Contract Changes; Buy America; Pedestrian Facilities and ADA Compliance; and DBE Program. \nThis is a ‘must have’ course for County\, Municipal\, and Consultant personnel at every level who may be responsible for ensuring on-time project completion\, conformance with plans and meeting eligibility criteria for federal reimbursement.
URL:https://cait.rutgers.edu/event/hip1/
LOCATION:Virtual
CATEGORIES:NJLTAP,Training
ATTACH;FMTTYPE=image/jpeg:https://cait.rutgers.edu/wp-content/uploads/2019/01/road-horizon-blur_ss15758602_crop-web_500px.jpg
END:VEVENT
END:VCALENDAR