BEGIN:VCALENDAR
VERSION:2.0
PRODID:-//Rutgers CAIT - ECPv5.16.3.1//NONSGML v1.0//EN
CALSCALE:GREGORIAN
METHOD:PUBLISH
X-WR-CALNAME:Rutgers CAIT
X-ORIGINAL-URL:https://cait.rutgers.edu
X-WR-CALDESC:Events for Rutgers CAIT
BEGIN:VTIMEZONE
TZID:America/New_York
BEGIN:DAYLIGHT
TZOFFSETFROM:-0500
TZOFFSETTO:-0400
TZNAME:EDT
DTSTART:20240310T070000
END:DAYLIGHT
BEGIN:STANDARD
TZOFFSETFROM:-0400
TZOFFSETTO:-0500
TZNAME:EST
DTSTART:20241103T060000
END:STANDARD
END:VTIMEZONE
BEGIN:VEVENT
DTSTART;TZID=America/New_York:20240520T090000
DTEND;TZID=America/New_York:20240521T150000
DTSTAMP:20260425T193257
CREATED:20190612T145414Z
LAST-MODIFIED:20240424T150718Z
UID:3491-1716195600-1716303600@cait.rutgers.edu
SUMMARY:*Class Full* NJLTAP - Guidelines for Guide Rail and Median Barrier Design (In-Person)
DESCRIPTION:*The 11th Edition of the Manual on Uniform Traffic Control Devices (MUTCD) was released December 18\, 2023\, and went into effect January 18\, 2024. We are currently updating related course materials to what is reflected in the most recent version of the MUTCD. \nCourse Description:\nThis 2-day workshop will cover the current design guidelines in Section 8 of the NJDOT Roadway Design Manual for guide rail design and median barriers which will cover the various Baseline Document Changes (BDC) and the revisions to implement AASHTO MASH criteria. The workshop will go through the entire section including clear zone\, warranting obstructions\, guide rail height\, clearance from traveled way\, rubrail\, reduced post spacing at obstructions\, guide rail at structures\, end treatments\, roadside recovery area\, grading treatment\, approach length of need\, guide rail treatments at driveways\, gore areas\, and median guide rail and barriers along with their placement. There will also be several class problems on calculating and graphically solving length of need on the second day of the course. The Standard Construction Details for Guide Rail and Median Barriers will also be covered. \nParticipants should also bring pencils\, straight edge\, English 30 scale and calculator to second day of class. \nLearning Objectives: \n\nLearn how to distinguish the current MASH guide rail from the various older types of guide rail constructed by NJDOT\nLearn how to design the NJDOT approved guide rail      and median barriers as per the latest AASHTO/NJDOT MASH criteria\nBecome very familiar with the latest Section 8 of the NJDOT Roadway Design Manual and the NJDOT Standard Construction Details for guide rail and median barriers\nSolve several class problems to apply the guide rail design concepts taught in class\n\nIntended Audience:\nState\, county and township engineers and engineering consultants involved with guide rail and median barrier design \nPre-Requisites: \nNone \nCredits: \n11 PDH \nPresenter: \nDavid Bizuga\, NJDOT Training Specialist and CAIT Co-adjutant \nSponsor: \nThis workshop is sponsored by the Federal Highway Administration and New Jersey Department of Transportation through the New Jersey Local Technical Assistance Program. \nUniversity Smoking Policy:\nRutgers University is dedicated to ensuring a safe and healthy environment for students\, staff\, visitors\, and guests. The use of any tobacco or tobacco-related products\, including E-cigarettes\, is not allowed on any University-owned\, operated\, leased\, occupied\, or controlled property. Consequently\, smoking is not allowed outside the CAIT building. Individuals who breach this updated policy will be requested to vacate the premises.
URL:https://cait.rutgers.edu/event/median-barrier-design/
LOCATION:Rutgers CAIT Auditorium\, 100 Brett Road\, Piscataway\, NJ\, 08854\, United States
CATEGORIES:Event,NJLTAP
ATTACH;FMTTYPE=image/jpeg:https://cait.rutgers.edu/wp-content/uploads/2019/06/27_1.jpg
ORGANIZER;CN="Jessica%20Brown":MAILTO:job32@soe.rutgers.edu
GEO:40.5225239;-74.4597658
X-APPLE-STRUCTURED-LOCATION;VALUE=URI;X-ADDRESS=Rutgers CAIT Auditorium 100 Brett Road Piscataway NJ 08854 United States;X-APPLE-RADIUS=500;X-TITLE=100 Brett Road:geo:-74.4597658,40.5225239
END:VEVENT
END:VCALENDAR