BEGIN:VCALENDAR
VERSION:2.0
PRODID:-//Rutgers CAIT - ECPv5.16.3.1//NONSGML v1.0//EN
CALSCALE:GREGORIAN
METHOD:PUBLISH
X-WR-CALNAME:Rutgers CAIT
X-ORIGINAL-URL:https://cait.rutgers.edu
X-WR-CALDESC:Events for Rutgers CAIT
BEGIN:VTIMEZONE
TZID:America/New_York
BEGIN:DAYLIGHT
TZOFFSETFROM:-0500
TZOFFSETTO:-0400
TZNAME:EDT
DTSTART:20260308T070000
END:DAYLIGHT
BEGIN:STANDARD
TZOFFSETFROM:-0400
TZOFFSETTO:-0500
TZNAME:EST
DTSTART:20261101T060000
END:STANDARD
END:VTIMEZONE
BEGIN:VEVENT
DTSTART;TZID=America/New_York:20260326T100000
DTEND;TZID=America/New_York:20260326T120000
DTSTAMP:20260420T225015
CREATED:20220308T125455Z
LAST-MODIFIED:20260210T140625Z
UID:9533-1774519200-1774526400@cait.rutgers.edu
SUMMARY:NJLTAP - Municipal Tonnage Grant Preparation (Webinar)
DESCRIPTION:Course Description:\nNJDEP wants to help you get your submittals correctly prepared and submitted on time! This presentation will review the process for completing the New Jersey Department of Environmental Protection municipal tonnage report\, which is an excel file report provided by NJDEP. It will explain the difference between industrial and commercial categorizing. Accompanying forms\, such as the certification form and statement of intent form will also be covered. \nLearning Objectives:  \n\nParticipants will be able to identify what is needed for their submittals\nParticipants will understand the municipal tonnage report\n\nIntended Audience:\nLocal public works and recycling departments \nPre-Requisites: \nNone \nCredits: \n2 Management CPWM Contact Hours applied for; 2 classroom credits for Certified Recycling Professionals applied for \nPresenter:\nErin Jensen\, Environmental Specialist\, NJDEP Bureau of Planning and Licensing \nSponsor: \nThis workshop is sponsored by the New Jersey Chapter of the American Public Works Association in partnership with the New Jersey Local Technical Assistance Program. \n 
URL:https://cait.rutgers.edu/event/municipaltonnagegrant/
ATTACH;FMTTYPE=image/png:https://cait.rutgers.edu/wp-content/uploads/2021/11/excel.png
ORGANIZER;CN="Mackenzie%20Vasile":MAILTO:mm4023@soe.rutgers.edu
END:VEVENT
END:VCALENDAR