BEGIN:VCALENDAR
VERSION:2.0
PRODID:-//Rutgers CAIT - ECPv5.16.3.1//NONSGML v1.0//EN
CALSCALE:GREGORIAN
METHOD:PUBLISH
X-WR-CALNAME:Rutgers CAIT
X-ORIGINAL-URL:https://cait.rutgers.edu
X-WR-CALDESC:Events for Rutgers CAIT
BEGIN:VTIMEZONE
TZID:America/New_York
BEGIN:DAYLIGHT
TZOFFSETFROM:-0500
TZOFFSETTO:-0400
TZNAME:EDT
DTSTART:20210314T070000
END:DAYLIGHT
BEGIN:STANDARD
TZOFFSETFROM:-0400
TZOFFSETTO:-0500
TZNAME:EST
DTSTART:20211107T060000
END:STANDARD
END:VTIMEZONE
BEGIN:VEVENT
DTSTART;TZID=America/New_York:20210603T090000
DTEND;TZID=America/New_York:20210603T153000
DTSTAMP:20260420T191344
CREATED:20190124T154831Z
LAST-MODIFIED:20210315T021720Z
UID:2426-1622710800-1622734200@cait.rutgers.edu
SUMMARY:NJLTAP - Construction and Project Cost Estimating for Public Works Projects (Webinar)
DESCRIPTION:Log on instructions will be in your registration confirmation. If you do not receive immediate confirmation\, please check your SPAM folder or email barbara.morgan@soe.rutgers.edu. Make sure to sign in with your full name to receive credit. \nPLEASE NOTE: This event is open to New Jersey Public Works employees only \nThis course provides an understanding of practical applications for performing estimates on typical construction and maintenance projects. Various mathematical rules necessary to perform basic computations and formulas to perform cost and quantity calculations are reviewed. The participants perform material estimating\, problem solving\, and dealing with cost and quantity estimates. \nIntended audience: Individuals who are involved in collecting roadway measurements and compiling estimates for roadway maintenance and construction projects\, including public works employees such and street supervisors and directors.
URL:https://cait.rutgers.edu/event/njltap-construction-and-project-cost-estimating-for-public-works-projects/
LOCATION:Virtual
CATEGORIES:NJLTAP,Training
ATTACH;FMTTYPE=image/jpeg:https://cait.rutgers.edu/wp-content/uploads/2018/11/facilities_rotating_auditorium_0171.jpg
END:VEVENT
END:VCALENDAR