BEGIN:VCALENDAR
VERSION:2.0
PRODID:-//Rutgers CAIT - ECPv5.16.3.1//NONSGML v1.0//EN
CALSCALE:GREGORIAN
METHOD:PUBLISH
X-WR-CALNAME:Rutgers CAIT
X-ORIGINAL-URL:https://cait.rutgers.edu
X-WR-CALDESC:Events for Rutgers CAIT
BEGIN:VTIMEZONE
TZID:America/New_York
BEGIN:DAYLIGHT
TZOFFSETFROM:-0500
TZOFFSETTO:-0400
TZNAME:EDT
DTSTART:20190310T070000
END:DAYLIGHT
BEGIN:STANDARD
TZOFFSETFROM:-0400
TZOFFSETTO:-0500
TZNAME:EST
DTSTART:20191103T060000
END:STANDARD
END:VTIMEZONE
BEGIN:VEVENT
DTSTART;TZID=America/New_York:20190225T090000
DTEND;TZID=America/New_York:20190225T190000
DTSTAMP:20260420T225621
CREATED:20190115T040047Z
LAST-MODIFIED:20190215T201509Z
UID:2255-1551085200-1551121200@cait.rutgers.edu
SUMMARY:Rapid-Repair Cements Seminar
DESCRIPTION:Rapid repair cement materials are a hot topic in concrete research and are actively being used across the industry to reduce construction times. However\, the chemistry of these systems can be quite different from portland cement\, and therefore the durability and constructability of concrete made with rapid repair cements is often not well understood.  This seminar provides people who are familiar with standard concrete systems an overview of rapid repair cements\, their chemistry\, uses\, durability concerns\, and constructability.
URL:https://cait.rutgers.edu/event/rapid-repair-cements-seminar/
LOCATION:Essex County – NJIT Campus Center\, 150 Bleeker St\, Newark\, NJ\, 07102\, United States
CATEGORIES:Event
ATTACH;FMTTYPE=image/jpeg:https://cait.rutgers.edu/wp-content/uploads/2019/01/workzone-i95_is17503906_450px.jpg
ORGANIZER;CN="Matthew%20P.%20Adams%2C%20Ph.D.":MAILTO:adams@njit.edu
GEO:40.7430762;-74.1783547
X-APPLE-STRUCTURED-LOCATION;VALUE=URI;X-ADDRESS=Essex County – NJIT Campus Center 150 Bleeker St Newark NJ 07102 United States;X-APPLE-RADIUS=500;X-TITLE=150 Bleeker St:geo:-74.1783547,40.7430762
END:VEVENT
END:VCALENDAR