BEGIN:VCALENDAR
VERSION:2.0
PRODID:-//Rutgers CAIT - ECPv5.16.3.1//NONSGML v1.0//EN
CALSCALE:GREGORIAN
METHOD:PUBLISH
X-WR-CALNAME:Rutgers CAIT
X-ORIGINAL-URL:https://cait.rutgers.edu
X-WR-CALDESC:Events for Rutgers CAIT
BEGIN:VTIMEZONE
TZID:America/New_York
BEGIN:DAYLIGHT
TZOFFSETFROM:-0500
TZOFFSETTO:-0400
TZNAME:EDT
DTSTART:20260308T070000
END:DAYLIGHT
BEGIN:STANDARD
TZOFFSETFROM:-0400
TZOFFSETTO:-0500
TZNAME:EST
DTSTART:20261101T060000
END:STANDARD
END:VTIMEZONE
BEGIN:VEVENT
DTSTART;TZID=America/New_York:20260226T080000
DTEND;TZID=America/New_York:20260226T120000
DTSTAMP:20260419T065133
CREATED:20230117T160922Z
LAST-MODIFIED:20251224T161249Z
UID:11375-1772092800-1772107200@cait.rutgers.edu
SUMMARY:Work Zone Safety Awareness (Webinar)
DESCRIPTION:Course Description:\nThe Work Zone Safety Awareness Program is offered to participants who require an overview of working safely in the roadway. As new or veteran employees enter or re-enter the construction and public works profession\, they are frequently required to set up short-term work zones or are assigned to long-term projects. There are no allowances for errors when working next to traffic\, so it is important for personnel to have a solid understanding of work zone safety compliance with the national MUTCD standards. Also\, the roles of workers and enforcement personnel at work sites\, differences between NJDOT and local projects\, and legal responsibilities in work zones will be addressed during this program. \nLearning Objectives: \n1. Learn about documents governing work zones\n2. Identify different types of work zones\n3. Name devices used in a work zone\n4. Describe hazards in a work zone\n5. Identify flagging operations in a work zone \nIntended Audience: \nWork zone participants and those seeking the Traffic Control Coordinator designation \nCredits: \n2 Technical\, 2 Government CPWM – (4) Professional Development Hours \nPre-Requisites: \nnone \nPresenters: \nBrian Crain – OSHA and Sgt. Alan Franke – NJSP Construction \nSponsors: \nNew Jersey Work Zone Safety Partnership and NJDOT
URL:https://cait.rutgers.edu/event/wzsfeb/
LOCATION:Virtual
CATEGORIES:Training
ATTACH;FMTTYPE=image/jpeg:https://cait.rutgers.edu/wp-content/uploads/2018/07/workzone-police_is_17474862-l.jpg
ORGANIZER;CN="Mackenzie%20Vasile":MAILTO:mm4023@soe.rutgers.edu
END:VEVENT
END:VCALENDAR