BEGIN:VCALENDAR
VERSION:2.0
PRODID:-//Rutgers CAIT - ECPv5.16.3.1//NONSGML v1.0//EN
CALSCALE:GREGORIAN
METHOD:PUBLISH
X-WR-CALNAME:Rutgers CAIT
X-ORIGINAL-URL:https://cait.rutgers.edu
X-WR-CALDESC:Events for Rutgers CAIT
BEGIN:VTIMEZONE
TZID:America/New_York
BEGIN:DAYLIGHT
TZOFFSETFROM:-0500
TZOFFSETTO:-0400
TZNAME:EDT
DTSTART:20230312T070000
END:DAYLIGHT
BEGIN:STANDARD
TZOFFSETFROM:-0400
TZOFFSETTO:-0500
TZNAME:EST
DTSTART:20231105T060000
END:STANDARD
END:VTIMEZONE
BEGIN:VEVENT
DTSTART;TZID=America/New_York:20230302T080000
DTEND;TZID=America/New_York:20230302T120000
DTSTAMP:20260420T225140
CREATED:20221118T180226Z
LAST-MODIFIED:20230119T223003Z
UID:10949-1677744000-1677758400@cait.rutgers.edu
SUMMARY:CAIT - Work Zone Safety Awareness Workshop (Webinar)
DESCRIPTION:The Work Zone Safety Awareness Program is offered to participants who require an overview of working safely in the roadway. As new or veteran employees enter or re-enter the construction and public works profession\, they are frequently required to set up short-term work zones or are assigned to long-term projects. There are no allowances for errors when working next to traffic\, so it is important for personnel to have a solid understanding of work zone safety compliance with the national MUTCD standards. Also\, the roles of workers and enforcement personnel at work sites\, differences between NJDOT and local projects\, and legal responsibilities in work zones will be addressed during this program.
URL:https://cait.rutgers.edu/event/wzssmarch/
LOCATION:Virtual
CATEGORIES:Training
ATTACH;FMTTYPE=image/jpeg:https://cait.rutgers.edu/wp-content/uploads/2018/07/workzone-police_is_17474862-l.jpg
ORGANIZER;CN="Jessica%20Brown":MAILTO:job32@soe.rutgers.edu
END:VEVENT
END:VCALENDAR